BEGIN:VCALENDAR
VERSION:2.0
PRODID:-//ChamberMaster//Event Calendar 2.0//EN
METHOD:PUBLISH
X-PUBLISHED-TTL:P3D
REFRESH-INTERVAL:P3D
CALSCALE:GREGORIAN
BEGIN:VEVENT
DTSTART:20100513T123000Z
DTEND:20100513T133000Z
X-MICROSOFT-CDO-ALLDAYEVENT:FALSE
SUMMARY:Ambassador's Orientation
DESCRIPTION:An oreintation session for new chamber ambassadors.  This would also be a good refresher for experienced ambassadors.
X-ALT-DESC;FMTTYPE=text/html:<div>An oreintation session for new chamber ambassadors.&nbsp\; This would also be a good refresher for experienced ambassadors.</div>
LOCATION:C.J.'s Cafe\, 404 Court Street. If they're too busy or too crowded\, we'll move next door to the chamber office.
UID:e.112.4901
SEQUENCE:3
DTSTAMP:20260422T221053Z
URL:http://www.business.pekinchamber.com/events/details/ambassador-s-orientation-05-13-2010-4901
END:VEVENT

END:VCALENDAR
