BEGIN:VCALENDAR
VERSION:2.0
PRODID:-//ChamberMaster//Event Calendar 2.0//EN
METHOD:PUBLISH
X-PUBLISHED-TTL:P3D
REFRESH-INTERVAL:P3D
CALSCALE:GREGORIAN
BEGIN:VEVENT
DTSTART:20080423T120000Z
DTEND:20080423T160000Z
X-MICROSOFT-CDO-ALLDAYEVENT:FALSE
SUMMARY:Administrative Professional Day 2008
DESCRIPTION:Join us in celebration of Administrative Professional Day 2008"Moving Forward - Rolling Out the Red Carpet"Sponsored by the Tri-County Chapter of IAAP(International Association of Adminstrative Professionals)
X-ALT-DESC;FMTTYPE=text/html:<div>Join us in celebration of Administrative Professional Day 2008</div><div>&quot\;Moving Forward - Rolling Out the Red Carpet&quot\;</div><div>Sponsored by the Tri-County Chapter of IAAP</div><div>(International Association of Adminstrative Professionals)</div>
LOCATION:Weaver Ridge - Kenzie Roomwww.weaverridge.com for driving directions
UID:e.112.3154
SEQUENCE:3
DTSTAMP:20260424T104236Z
URL:http://www.business.pekinchamber.com/events/details/administrative-professional-day-2008-04-23-2008-3154
END:VEVENT

END:VCALENDAR
