BEGIN:VCALENDAR
VERSION:2.0
PRODID:-//ChamberMaster//Event Calendar 2.0//EN
METHOD:PUBLISH
X-PUBLISHED-TTL:P3D
REFRESH-INTERVAL:P3D
CALSCALE:GREGORIAN
BEGIN:VEVENT
DTSTART:20111217T010000Z
DTEND:20111217T040000Z
X-MICROSOFT-CDO-ALLDAYEVENT:FALSE
SUMMARY:Acoustic Wine Share featuring Something with Trees
DESCRIPTION:A terrific folk-rock band comprised of Brian Davis\, Collin Krause\, and  Shaina Dolanc. Their unique sound is a crowd pleaser. They recently released a new cd. Come check them out!
X-ALT-DESC;FMTTYPE=text/html:A terrific folk-rock band comprised of Brian Davis\, Collin Krause\, and&nbsp\; Shaina Dolanc. Their unique sound is a crowd pleaser. They recently released a new cd. Come check them out!
LOCATION:Speakeasy Art Center
UID:e.112.5407
SEQUENCE:3
DTSTAMP:20260420T131803Z
URL:http://www.business.pekinchamber.com/events/details/acoustic-wine-share-featuring-something-with-trees-12-16-2011-5407
END:VEVENT

END:VCALENDAR
