BEGIN:VCALENDAR
VERSION:2.0
PRODID:-//ChamberMaster//Event Calendar 2.0//EN
METHOD:PUBLISH
X-PUBLISHED-TTL:P3D
REFRESH-INTERVAL:P3D
CALSCALE:GREGORIAN
BEGIN:VEVENT
DTSTART;VALUE=DATE:20111118
DTEND;VALUE=DATE:20111119
TRANSP:TRANSPARENT
X-MICROSOFT-CDO-ALLDAYEVENT:TRUE
SUMMARY:Acoustic Wine Share at The Speakeasy
DESCRIPTION:The Speakeasy will host Something With Trees\, an acoustic group that will entertain you with their rhythmic and rocking sounds on the Third Friday of every month.  Bring your favorite beverage\, your friends\, enjoy our gallery exhibits\, and join us for another "Artistic Affair!"\n\n\n\nOther performers are welcome to discuss joining in for a song\, a set\, or an evening.
X-ALT-DESC;FMTTYPE=text/html:The Speakeasy will host Something With Trees\, an acoustic group that will entertain you with their rhythmic and rocking sounds on the <strong>Third Friday</strong> of every month.&nbsp\; Bring your favorite beverage\, your friends\, enjoy our gallery exhibits\, and join us for another &quot\;Artistic Affair!&quot\;<br />\n<br />\nOther performers are welcome to discuss joining in for a song\, a set\, or an evening.&nbsp\; 
LOCATION:Speakeasy Art Gallery 353 Court Street Pekin\, Illinois
UID:e.112.5397
SEQUENCE:3
DTSTAMP:20260421T181543Z
URL:http://www.business.pekinchamber.com/events/details/acoustic-wine-share-at-the-speakeasy-11-18-2011-5397
END:VEVENT

END:VCALENDAR
