BEGIN:VCALENDAR
VERSION:2.0
PRODID:-//ChamberMaster//Event Calendar 2.0//EN
METHOD:PUBLISH
X-PUBLISHED-TTL:P3D
REFRESH-INTERVAL:P3D
CALSCALE:GREGORIAN
BEGIN:VEVENT
DTSTART;VALUE=DATE:20111111
DTEND;VALUE=DATE:20111112
TRANSP:TRANSPARENT
X-MICROSOFT-CDO-ALLDAYEVENT:TRUE
SUMMARY:Acoustic Wine Share at The Speakeasy
DESCRIPTION:The Speakeasy will host Me and Billy\, an acoustic group that will entertain you with their rhythmic and rocking sounds on the second Friday of every month.   Bring your favorite beverage and your friends.  Enjoy our featured gallery art and join us for an "Artistic Affair!" \n\n\n\nOther performers are welcome to discuss joining in for a song\, a set\, or an evening.
X-ALT-DESC;FMTTYPE=text/html:The Speakeasy will host Me and Billy\, an acoustic group that will entertain you with their rhythmic and rocking sounds on the <strong>second Friday </strong>of every month.&nbsp\;&nbsp\; Bring your favorite beverage and your friends.&nbsp\; Enjoy our featured gallery art and join us for an &quot\;Artistic Affair!&quot\;&nbsp\;<br />\n<br />\nOther performers are welcome to discuss joining in for a song\, a set\, or an evening.&nbsp\; 
LOCATION:Speakeasy Art Center 353 Court Street Pekin\, Illinois
UID:e.112.5396
SEQUENCE:3
DTSTAMP:20260421T181546Z
URL:http://www.business.pekinchamber.com/events/details/acoustic-wine-share-at-the-speakeasy-11-11-2011-5396
END:VEVENT

END:VCALENDAR
