BEGIN:VCALENDAR
VERSION:2.0
PRODID:-//ChamberMaster//Event Calendar 2.0//EN
METHOD:PUBLISH
X-PUBLISHED-TTL:P3D
REFRESH-INTERVAL:P3D
CALSCALE:GREGORIAN
BEGIN:VEVENT
DTSTART:20111015T000000Z
DTEND:20111015T030000Z
X-MICROSOFT-CDO-ALLDAYEVENT:FALSE
SUMMARY:Acoustic Wine Share at The Speakeasy
DESCRIPTION:The Speakeasy will host Me and Billy\, an acoustic group that will entertain you with their rhythmic and rocking sounds on the second Friday of every month.  Other performers are welcome to discuss joining in for a song\, a set\, or an evening.
X-ALT-DESC;FMTTYPE=text/html:The Speakeasy will host Me and Billy\, an acoustic group that will entertain you with their rhythmic and rocking sounds on the second Friday of every month.&nbsp\; Other performers are welcome to discuss joining in for a song\, a set\, or an evening.&nbsp\; 
LOCATION:The Speakeasy Art Center 353 Court Street Pekin\, Illinois
UID:e.112.5395
SEQUENCE:3
DTSTAMP:20260421T195234Z
URL:http://www.business.pekinchamber.com/events/details/acoustic-wine-share-at-the-speakeasy-10-14-2011-5395
END:VEVENT

END:VCALENDAR
