BEGIN:VCALENDAR
VERSION:2.0
PRODID:-//ChamberMaster//Event Calendar 2.0//EN
METHOD:PUBLISH
X-PUBLISHED-TTL:P3D
REFRESH-INTERVAL:P3D
CALSCALE:GREGORIAN
BEGIN:VEVENT
DTSTART:20100606T190000Z
DTEND:20100606T213000Z
X-MICROSOFT-CDO-ALLDAYEVENT:FALSE
SUMMARY:'Abraham Lincoln in Pekin' Walking Tour
DESCRIPTION:Re-enactors will be telling about people and places in that location at the time Lincoln used to visit Pekin on his circuit and during his campaigning.  Sponsored by the Tazewell County Genealogical & Historical Society.
X-ALT-DESC;FMTTYPE=text/html: Re-enactors will be telling about people and places in that location at the time Lincoln used to visit Pekin on his circuit and during his campaigning.  Sponsored by the Tazewell County Genealogical &amp\; Historical Society.\n<br>
LOCATION:the Pekin Riverfront Park\, foot of Court Street
UID:e.112.4903
SEQUENCE:3
DTSTAMP:20260422T203735Z
URL:http://www.business.pekinchamber.com/events/details/abraham-lincoln-in-pekin-walking-tour-06-06-2010-4903
END:VEVENT

END:VCALENDAR
