BEGIN:VCALENDAR
VERSION:2.0
PRODID:-//ChamberMaster//Event Calendar 2.0//EN
METHOD:PUBLISH
X-PUBLISHED-TTL:P3D
REFRESH-INTERVAL:P3D
CALSCALE:GREGORIAN
BEGIN:VEVENT
DTSTART:20100704T230000Z
DTEND:20100705T030000Z
X-MICROSOFT-CDO-ALLDAYEVENT:FALSE
SUMMARY:4th of July Honor America Celebration brought to you by Timbercreek
DESCRIPTION:Pekin Area Chamber of Commercepresents4th of July Honor America Celebrationbrought to you by Timbercreek Rehab & Health Care and these other generous sponsors CEFCU ~ East Court Village ~ Enviro-Safe Refrigerants ~ Leman Property Management ~ Liberty Village / Pekin Manor / Pekin Estates ~ Pekin First Church of God ~ Pekin Insurance ~ Subway Ameren Illinois Utilities ~ Avanti's Ristorante ~ Bagley & Miller Law Office ~ Busey Bank ~ Excalibur Seasoning Company ~ Excel Foundry and Machine ~ Farnsworth Group ~ Illinois American Water ~ Kouri's Pub ~ Maurer-Stutz ~ McDonald's ~ Midwest Generation Powerton ~ Pekin Community Bank ~ Pekin Veterinary Clinic ~ Pepsi ~ Preston-Hanley Funeral Homes ~ Ray Dennison Chevrolet ~ Schwartz & Miller Family Dentistry ~ Uftring Chrysler Dodge Jeep ~ Wal-Mart Citizens for Unes ~ County Market / Niemann Foods ~ Court Place Apartments ~ Covenant Heating & Air ~ Deuce Development ~ Grand Victorian of Pekin ~ Heartland Bank & Trust Company ~ John M. Evans Supportive Living Community ~ Kriegsman Warehouses ~ Lowman & Barra ~ McDaniels Marketing Communications ~ Newman & Ullman ~ Pekin Animal Hospital ~ Pekin Daily Times ~ Pekin Union Mission Society ~ Seico Security Systems ~ Unland Companies ~ Velde Cadillac Buick GMC ~ Vonderheide Floor Coverings ~ Women's Center for Health ~ Wireless Express
X-ALT-DESC;FMTTYPE=text/html:<div style="text-align: center"><span style="font-size: large"><span style="font-family: Tahoma">Pekin Area Chamber of Commerce</span></span></div><div style="text-align: center"><span style="font-size: large"><span style="font-family: Tahoma">presents</span></span></div><div style="text-align: center"><span style="font-size: large"><span style="font-family: Tahoma">4th of July Honor America Celebration</span></span></div><div style="text-align: center"><span style="font-size: large"><span style="font-family: Tahoma">brought to you by </span></span></div><div style="text-align: center"><span style="font-size: large"><span style="font-family: Tahoma">Timbercreek Rehab &amp\; Health Care</span></span></div><div>&nbsp\;</div><div style="text-align: center"><span style="font-size: x-small"><span style="font-family: Tahoma">and these other generous&nbsp\;sponsors</span></span></div><div>&nbsp\;</div><div><p class="MsoBodyText3" style="margin: 0in 0in 0pt"><span style="font-size: medium"><span style="font-family: Tahoma">CEFCU ~ East Court Village ~ Enviro-Safe Refrigerants ~&nbsp\;</span></span><span style="font-size: medium"><span style="font-family: Tahoma">Leman Property Management ~ Liberty Village / Pekin Manor / Pekin Estates ~ </span></span><span style="font-size: medium"><span style="font-family: Tahoma">Pekin First Church of God ~ Pekin Insurance ~ Subway</span></span></p><p class="MsoNormal" align="center" style="text-align: center\; margin: 0in 0in 0pt"><span style="font-family: Arial\; font-size: 11pt\; mso-bidi-font-size: 12.0pt">&nbsp\;<o:p></o:p></span></p><p class="MsoBodyText2" style="margin: 0in 0in 0pt"><span style="font-size: small"><span style="font-family: Tahoma">Ameren Illinois Utilities ~ Avanti&rsquo\;s Ristorante ~ Bagley &amp\; Miller Law Office ~ Busey Bank ~ </span></span><span style="font-size: small"><span style="font-family: Tahoma">Excalibur Seasoning Company ~ Excel Foundry and Machine ~ Farnsworth Group ~ </span></span><span style="font-size: small"><span style="font-family: Tahoma">Illinois American Water ~ Kouri&rsquo\;s Pub ~ Maurer-Stutz ~ McDonald&rsquo\;s ~ Midwest Generation Powerton ~ </span></span><span style="font-size: small"><span style="font-family: Tahoma">Pekin Community Bank ~ Pekin Veterinary Clinic ~ Pepsi ~ Preston-Hanley Funeral Homes ~ </span></span><span style="font-size: small"><span style="font-family: Tahoma">Ray Dennison Chevrolet ~ Schwartz &amp\; Miller Family Dentistry ~ </span></span><span style="font-size: small"><span style="font-family: Tahoma">Uftring Chrysler Dodge Jeep ~ Wal-Mart</span></span></p><p class="MsoNormal" align="center" style="text-align: center\; margin: 0in 0in 0pt"><span style="font-family: Arial\; font-size: 11pt\; mso-bidi-font-size: 12.0pt">&nbsp\;<o:p></o:p></span></p><p class="MsoBodyText" style="margin: 0in 0in 0pt"><span style="font-size: x-small"><span style="font-family: Tahoma">Citizens for Unes ~ County Market / Niemann Foods ~ Court Place Apartments ~ Covenant Heating &amp\; Air ~ </span></span><span style="font-size: x-small"><span style="font-family: Tahoma">Deuce Development ~ Grand Victorian of Pekin ~ Heartland Bank &amp\; Trust Company ~ </span></span><span style="font-size: x-small"><span style="font-family: Tahoma">John M. Evans Supportive Living Community ~ Kriegsman Warehouses ~ Lowman &amp\; Barra ~ </span></span><span style="font-size: x-small"><span style="font-family: Tahoma">McDaniels Marketing Communications ~ Newman &amp\; Ullman ~ Pekin Animal Hospital ~ Pekin Daily Times ~ </span></span><span style="font-size: x-small"><span style="font-family: Tahoma">Pekin Union Mission Society ~ Seico Security Systems ~ Unland Companies ~ Velde Cadillac Buick GMC ~ </span></span><span style="font-family: Tahoma"><span style="mso-fareast-font-family: 'Times New Roman'\; mso-ansi-language: EN-US\; mso-fareast-language: EN-US\; mso-bidi-language: AR-SA">Vonderheide Floor Coverings ~ Women&rsquo\;s Center for Health ~ Wireless Express</span></span></p></div>
LOCATION:Pekin Memorial Stadium
UID:e.112.4908
SEQUENCE:3
DTSTAMP:20260422T190053Z
URL:http://www.business.pekinchamber.com/events/details/4th-of-july-honor-america-celebration-brought-to-you-by-timbercreek-07-04-2010-4908
END:VEVENT

END:VCALENDAR
