BEGIN:VCALENDAR
VERSION:2.0
PRODID:-//ChamberMaster//Event Calendar 2.0//EN
METHOD:PUBLISH
X-PUBLISHED-TTL:P3D
REFRESH-INTERVAL:P3D
CALSCALE:GREGORIAN
BEGIN:VEVENT
DTSTART:20110405T203000Z
DTEND:20110405T213000Z
X-MICROSOFT-CDO-ALLDAYEVENT:FALSE
SUMMARY:4th of July Committee Meeting
DESCRIPTION:
X-ALT-DESC;FMTTYPE=text/html:
LOCATION:Pekin Area Chamber of Commerce 402 Court Street Pekin\, Il 61554
UID:e.112.5351
SEQUENCE:3
DTSTAMP:20260422T052047Z
URL:http://www.business.pekinchamber.com/events/details/4th-of-july-committee-meeting-04-05-2011-5351
END:VEVENT

END:VCALENDAR
