BEGIN:VCALENDAR
VERSION:2.0
PRODID:-//ChamberMaster//Event Calendar 2.0//EN
METHOD:PUBLISH
X-PUBLISHED-TTL:P3D
REFRESH-INTERVAL:P3D
CALSCALE:GREGORIAN
BEGIN:VEVENT
DTSTART:20120329T203000Z
DTEND:20120329T213000Z
X-MICROSOFT-CDO-ALLDAYEVENT:FALSE
SUMMARY:4th of July Committee Meeting
DESCRIPTION:4th of July Committee
X-ALT-DESC;FMTTYPE=text/html:4th of July Committee
LOCATION:Pekin Area Chamber of Commerce 402 Court St.
UID:e.112.5569
SEQUENCE:3
DTSTAMP:20260420T090642Z
URL:http://www.business.pekinchamber.com/events/details/4th-of-july-committee-meeting-03-29-2012-5569
END:VEVENT

END:VCALENDAR
