BEGIN:VCALENDAR
VERSION:2.0
PRODID:-//ChamberMaster//Event Calendar 2.0//EN
METHOD:PUBLISH
X-PUBLISHED-TTL:P3D
REFRESH-INTERVAL:P3D
CALSCALE:GREGORIAN
BEGIN:VEVENT
DTSTART:20090918T223000Z
DTEND:20090919T013000Z
X-MICROSOFT-CDO-ALLDAYEVENT:FALSE
SUMMARY:3rd Annual Timbercreek Cruise-In for St. Jude
DESCRIPTION:Annual event to raise money for St. Jude.  Event includes:\n- Classic Car Show\n- Live Music by Phat Kitti playing 70's\, 80's\, 90's and Today's Classic Rock\n- Admission includes Burgers\, Hot Dogs\, Potato Salad\, Baked Beans & Refreshments\n- 50/50 Raffle\n- Basket Raffle\n- Children's Activities
X-ALT-DESC;FMTTYPE=text/html:Annual event to raise money for St. Jude.  Event includes:\n- Classic Car Show\n- Live Music by Phat Kitti playing 70's\, 80's\, 90's and Today's Classic Rock\n- Admission includes Burgers\, Hot Dogs\, Potato Salad\, Baked Beans & Refreshments\n- 50/50 Raffle\n- Basket Raffle\n- Children's Activities
LOCATION:2220 State Street Pekin\, IL 61554 *Off of Parkway between Lick Creek and Parkview Golf Courses
UID:e.112.3719
SEQUENCE:3
DTSTAMP:20260423T100305Z
URL:http://www.business.pekinchamber.com/events/details/3rd-annual-timbercreek-cruise-in-for-st-jude-09-18-2009-3719
END:VEVENT

END:VCALENDAR
