BEGIN:VCALENDAR
VERSION:2.0
PRODID:-//ChamberMaster//Event Calendar 2.0//EN
METHOD:PUBLISH
X-PUBLISHED-TTL:P3D
REFRESH-INTERVAL:P3D
CALSCALE:GREGORIAN
BEGIN:VEVENT
DTSTART:20111030T000000Z
DTEND:20111030T060000Z
X-MICROSOFT-CDO-ALLDAYEVENT:FALSE
SUMMARY:2nd Annual Freakers Ball!!
DESCRIPTION:This event is hosted by Rhythm and Brews at Speakeasy Art Center. For a $3 cover you can enjoy a chili supper\, entertainment by Farm Hands\, cash costume prize\, photo opportunities with the electric chair and drink specials all night long!
X-ALT-DESC;FMTTYPE=text/html:This event is hosted by Rhythm and Brews at Speakeasy Art Center. For a $3 cover you can enjoy a chili supper\, entertainment by Farm Hands\, cash costume prize\, photo opportunities with the electric chair and drink specials all night long!
LOCATION:Speakeasy Art Center
UID:e.112.5393
SEQUENCE:3
DTSTAMP:20260421T195203Z
URL:http://www.business.pekinchamber.com/events/details/2nd-annual-freakers-ball-10-29-2011-5393
END:VEVENT

END:VCALENDAR
