BEGIN:VCALENDAR
VERSION:2.0
PRODID:-//ChamberMaster//Event Calendar 2.0//EN
METHOD:PUBLISH
X-PUBLISHED-TTL:P3D
REFRESH-INTERVAL:P3D
CALSCALE:GREGORIAN
BEGIN:VEVENT
DTSTART:20110605T190000Z
DTEND:20110605T213000Z
X-MICROSOFT-CDO-ALLDAYEVENT:FALSE
SUMMARY:2nd Annual "Abraham Lincoln in Pekin" Walk
DESCRIPTION:Sponsored by the Tazewell County Genealogical & Historical Society\, along with Pekin Main Street\, society volunteers\, dressed in costume\, will portray real people who had associations in downtown Pekin with the future president during his visits here.  Attendees will stroll from speaker to speaker and also be served lemonade & cookies.
X-ALT-DESC;FMTTYPE=text/html:Sponsored by the Tazewell County Genealogical &amp\; Historical Society\, along with Pekin Main Street\, society volunteers\, dressed in costume\, will portray real people who had associations in downtown Pekin&nbsp\;with the future president during his visits here.&nbsp\; Attendees will stroll from speaker to speaker and also be served lemonade &amp\; cookies.
LOCATION:Pekin's Capitol Street\, Courthouse Block
UID:e.112.5367
SEQUENCE:3
DTSTAMP:20260422T021250Z
URL:http://www.business.pekinchamber.com/events/details/2nd-annual-abraham-lincoln-in-pekin-walk-06-05-2011-5367
END:VEVENT

END:VCALENDAR
