BEGIN:VCALENDAR
VERSION:2.0
PRODID:-//ChamberMaster//Event Calendar 2.0//EN
METHOD:PUBLISH
X-PUBLISHED-TTL:P3D
REFRESH-INTERVAL:P3D
CALSCALE:GREGORIAN
BEGIN:VEVENT
DTSTART:20100926T180000Z
DTEND:20100926T220000Z
X-MICROSOFT-CDO-ALLDAYEVENT:FALSE
SUMMARY:2010 Tailwaggers Classic
DESCRIPTION:This is TAPS longest running fundraising event.  It will have a featured event (yet to be announced)\, but past years have included\, "The Flydogs" a choreographed demonstration on flyball and Frisbee. In addition\, there will be several demonstrations on obedience\, search and rescue\, and therapy dog training\, as well as a Talent and Costume contest\, a dog walk\, a raffle\, pet related booths and much more!
X-ALT-DESC;FMTTYPE=text/html:<div><span style="font-size: 11pt">This is TAPS longest running fundraising event.&nbsp\; It will have a featured event (yet to be announced)\, but past years have included\, &ldquo\;The Flydogs&rdquo\; a choreographed demonstration on flyball and Frisbee<span style="color: black">.&nbsp\;In addition\, there will be several demonstrations on obedience\, search and rescue\, and therapy dog training\, as well as a Talent and Costume contest\, a dog walk\, a raffle\, pet related booths and much more!</span> </span></div>
LOCATION:Mineral Springs Park\, Royal Avenue Shelter
UID:e.112.4917
SEQUENCE:3
DTSTAMP:20260422T155917Z
URL:http://www.business.pekinchamber.com/events/details/2010-tailwaggers-classic-09-26-2010-4917
END:VEVENT

END:VCALENDAR
