BEGIN:VCALENDAR
VERSION:2.0
PRODID:-//ChamberMaster//Event Calendar 2.0//EN
METHOD:PUBLISH
X-PUBLISHED-TTL:P3D
REFRESH-INTERVAL:P3D
CALSCALE:GREGORIAN
BEGIN:VEVENT
DTSTART;VALUE=DATE:20080611
DTEND;VALUE=DATE:20080612
TRANSP:TRANSPARENT
X-MICROSOFT-CDO-ALLDAYEVENT:TRUE
SUMMARY:12th Annual John M. Evans Scholarship Golf Tournament
DESCRIPTION:Sponsored by the Laborer's Local #231Call the Laborers' Local 231 at 347-7106 for more info
X-ALT-DESC;FMTTYPE=text/html:<div>Sponsored by the Laborer&rsquo\;s Local #231</div><div>Call the Laborers' Local 231 at 347-7106 for more info</div>
LOCATION:Lick Creek Golf Course
UID:e.112.3144
SEQUENCE:3
DTSTAMP:20260424T075828Z
URL:http://www.business.pekinchamber.com/events/details/12th-annual-john-m-evans-scholarship-golf-tournament-06-11-2008-3144
END:VEVENT

END:VCALENDAR
